BEGIN:VCALENDAR
VERSION:2.0
PRODID:icalendar-ruby
CALSCALE:GREGORIAN
METHOD:PUBLISH
BEGIN:VEVENT
DTSTAMP:20260421T172124Z
UID:5-557639@sanmarcoslutheran.org
DTSTART:20260913T170000Z
DTEND:20260913T180000Z
CLASS:PUBLIC
CREATED:20260421T100408
DESCRIPTION:Join us each Sunday for worship in the sanctuary beginning at 1
 0:00am.\nCommunity Time begins after the service (around 11:15am) in Luthe
 r Hall.\n 
LAST-MODIFIED:20260421T100408
LOCATION:
SUMMARY:Sunday Worship
URL;VALUE=URI:https://sanmarcoslutheran.org/events/sunday-worship/2026-09-1
 3
ATTACH;FILENAME=michael-maasen-bu-6kNWQj6U-unsplash.jpg;FMTTYPE=image/jpeg:
 https://dq5pwpg1q8ru0.cloudfront.net/2024/06/04/23/07/30/94bcdd8a-4b16-470
 4-9840-73ffee4cb765/michael-maasen-bu-6kNWQj6U-unsplash.jpg
END:VEVENT
END:VCALENDAR
