BEGIN:VCALENDAR
VERSION:2.0
PRODID:icalendar-ruby
CALSCALE:GREGORIAN
METHOD:PUBLISH
BEGIN:VEVENT
DTSTAMP:20260421T014359Z
UID:79-556386@sanmarcoslutheran.org
DTSTART;VALUE=DATE:20260920
DTEND;VALUE=DATE:20260920
CLASS:PUBLIC
CREATED:20260420T174241
DESCRIPTION:Our nursery is getting ready for young ones again!\nWe have ple
 nty of books\, stuffed animals\, playdough accessories\, and DVD/CDs. But 
 we need other toys too!\n If you wish to donate\, please remember the foll
 owing: Target age is 2 to 5 years old\, All toys need to be able to be cle
 aned easily\, Interactive toys like Duplo Legos\, educational puzzles\, an
 d pretend-play are all good options.\nDonations can be left in the narthex
 !\nQuestions? Contact Karin Kupka at 760-415-2525 or karinkupka533@hotmail
 .com
LAST-MODIFIED:20260420T174241
LOCATION:
SUMMARY:Toys Needed For Our Nursery
URL;VALUE=URI:https://sanmarcoslutheran.org/events/toys-needed-for-our-nurs
 ery/2026-09-20
ATTACH;FILENAME=toys-needed.jpg;FMTTYPE=image/jpeg:https://dq5pwpg1q8ru0.cl
 oudfront.net/2026/01/31/02/14/49/6b4636b2-7672-4344-bc0f-f82efb89830d/toys
 -needed.jpg
END:VEVENT
END:VCALENDAR
